BEGIN:VCALENDAR
VERSION:2.0
PRODID:-//Newport Center United Methodist Preschool - ECPv6.15.12.2//NONSGML v1.0//EN
CALSCALE:GREGORIAN
METHOD:PUBLISH
X-WR-CALNAME:Newport Center United Methodist Preschool
X-ORIGINAL-URL:https://www.ncump.org
X-WR-CALDESC:Events for Newport Center United Methodist Preschool
REFRESH-INTERVAL;VALUE=DURATION:PT1H
X-Robots-Tag:noindex
X-PUBLISHED-TTL:PT1H
BEGIN:VTIMEZONE
TZID:America/Los_Angeles
BEGIN:DAYLIGHT
TZOFFSETFROM:-0800
TZOFFSETTO:-0700
TZNAME:PDT
DTSTART:20250309T100000
END:DAYLIGHT
BEGIN:STANDARD
TZOFFSETFROM:-0700
TZOFFSETTO:-0800
TZNAME:PST
DTSTART:20251102T090000
END:STANDARD
BEGIN:DAYLIGHT
TZOFFSETFROM:-0800
TZOFFSETTO:-0700
TZNAME:PDT
DTSTART:20260308T100000
END:DAYLIGHT
BEGIN:STANDARD
TZOFFSETFROM:-0700
TZOFFSETTO:-0800
TZNAME:PST
DTSTART:20261101T090000
END:STANDARD
BEGIN:DAYLIGHT
TZOFFSETFROM:-0800
TZOFFSETTO:-0700
TZNAME:PDT
DTSTART:20270314T100000
END:DAYLIGHT
BEGIN:STANDARD
TZOFFSETFROM:-0700
TZOFFSETTO:-0800
TZNAME:PST
DTSTART:20271107T090000
END:STANDARD
END:VTIMEZONE
BEGIN:VEVENT
DTSTART;VALUE=DATE:20260422
DTEND;VALUE=DATE:20260423
DTSTAMP:20260422T032803
CREATED:20251110T210118Z
LAST-MODIFIED:20251110T210118Z
UID:10001019-1776816000-1776902399@www.ncump.org
SUMMARY:Pajama Day
DESCRIPTION:Wear your cozy pajamas to Preschool!
URL:https://www.ncump.org/event/pajama-day-31/
CATEGORIES:School Events
END:VEVENT
BEGIN:VEVENT
DTSTART;TZID=America/Los_Angeles:20260422T094500
DTEND;TZID=America/Los_Angeles:20260422T100000
DTSTAMP:20260422T032803
CREATED:20251110T205833Z
LAST-MODIFIED:20260416T173247Z
UID:10001017-1776851100-1776852000@www.ncump.org
SUMMARY:Sing-A-Long
DESCRIPTION:Families Invited. (RR\, R1\, R2\, R3\, R4\, R5\, R6)
URL:https://www.ncump.org/event/sing-a-long-40/
CATEGORIES:School Events
END:VEVENT
END:VCALENDAR